BEGIN:VCALENDAR
VERSION:2.0
PRODID:Events Booking
BEGIN:VEVENT
UID:69e74d1317a7e
SUMMARY:Blade Runner performed live by The Avex Ensemble
DESCRIPTION:Το Σύμπαν του Blade Runner ζωντανεύει στ
 ην Αθήνα!&nbsp\;
 
LOCATION:Διονυσίου Αρεοπαγίτου\, Αθήνα 105 58\, Ε
 λλάδα
DTSTART:20260604T180000Z
DTEND:20260603T210000Z
DTSTAMP:20260421T040049Z
ORGANIZER:MAILTO:doraq@brainfoodmedia.gr
GEO:37.969601;23.7269
X-APPLE-STRUCTURED-LOCATION;VALUE=URI;X-ADDRESS=Διονυσίου Αρεο
 παγίτου\, Αθήνα 105 58\, Ελλάδα;X-APPLE-RADIUS=72;X-TITL
 E=Ωδείο Ηρώδου Αττικού:37.969601;23.7269
END:VEVENT
END:VCALENDAR