BEGIN:VCALENDAR
VERSION:2.0
PRODID:Events Booking
BEGIN:VEVENT
UID:69e7365212298
SUMMARY:Beth Hart
DESCRIPTION:Η εκρηκτική Beth Hart θα συναντήσει το
 υς θαυμαστές της στην Αθήνα\, την Τετάρτη
  1 Ιουλίου σε ένα ειδικά σχεδιασμένο project 
 για την Ελλάδα.
LOCATION:Λόφος Λυκαβηττού\, Αθήνα\, Ελλάδα
DTSTART:20260701T190000Z
DTEND:20260630T210000Z
DTSTAMP:20251204T164539Z
ORGANIZER:MAILTO:doraq@brainfoodmedia.gr
GEO:37.9828;23.746
X-APPLE-STRUCTURED-LOCATION;VALUE=URI;X-ADDRESS=Λόφος Λυκαβηττ
 ού\, Αθήνα\, Ελλάδα;X-APPLE-RADIUS=72;X-TITLE=Θέατρο Λ
 υκαβηττού:37.9828;23.746
END:VEVENT
END:VCALENDAR