BEGIN:VCALENDAR
VERSION:2.0
PRODID:Events Booking
BEGIN:VEVENT
UID:69e7dd12aaca2
SUMMARY:Bandalaika
DESCRIPTION:Μια κεφάτη και έξω καρδιά Τσικνοπέ
 μπτη εγγυώνται οι Bandalaika στο Γυάλινο Up Stage
 .
LOCATION:Λεωφόρος Ανδρέα Συγγρού 143\, Νέα Σμύρ
 νη 171 21\, Ελλάδα
DTSTART:20200220T170000Z
DTEND:20200220T190000Z
DTSTAMP:20231116T105416Z
ORGANIZER:MAILTO:doraq@brainfoodmedia.gr
GEO:37.9548;23.7145
X-APPLE-STRUCTURED-LOCATION;VALUE=URI;X-ADDRESS=Λεωφόρος Ανδρέ
 α Συγγρού 143\, Νέα Σμύρνη 171 21\, Ελλάδα;X-APPLE-
 RADIUS=72;X-TITLE=Γυάλινο Μουσικό Θέατρο - Up Stage:37
 .9548;23.7145
END:VEVENT
END:VCALENDAR