BEGIN:VCALENDAR
VERSION:2.0
PRODID:Events Booking
BEGIN:VEVENT
UID:69e8609e7257b
SUMMARY:Atmosphere
DESCRIPTION:Οι Atmosphere έρχονται στην Αθήνα για μ
 ία εμφάνιση αντάξια της φήμης τους\, στο F
 loyd Live Music Venue!&nbsp\;
 
LOCATION:Πειραιώς 117\, Αθήνα 118 54
DTSTART:20260509T180000Z
DTEND:20260508T210000Z
DTSTAMP:20260121T171401Z
ORGANIZER:MAILTO:doraq@brainfoodmedia.gr
END:VEVENT
END:VCALENDAR