BEGIN:VCALENDAR
VERSION:2.0
PRODID:Events Booking
BEGIN:VEVENT
UID:69e9132d5bf48
SUMMARY:Αντώνης Δημητρίου\, Δημήτρης Μητσοτά
 κης\, Μικαέλα Δαρμάνη
DESCRIPTION:Την Παρασκευή 1 Νοεμβρίου συναντιό
 νται στη σκηνή του Holywood o Aντώνης Δημητρί
 ου και ο Δημήτρης Μητσοτάκης\, δύο από τα 
 πιο σημαντικά μέλη των ΕΝΔΕΛΕΧΕΙΑ που απ
 οτέλεσε ένα από τα πιο σημαντικά συγκροτ
 ήματα της Ελληνικής Rock σκηνής.
LOCATION:Λεωφόρος Βουλιαγμένης 289\, Άγιος Δημ
 ήτριος 172 36\, Ελλάδα
DTSTART:20191101T180000Z
DTEND:20191101T195900Z
DTSTAMP:20231116T105416Z
ORGANIZER:MAILTO:doraq@brainfoodmedia.gr
GEO:37.945099;23.7395
X-APPLE-STRUCTURED-LOCATION;VALUE=URI;X-ADDRESS=Λεωφόρος Βουλι
 αγμένης 289\, Άγιος Δημήτριος 172 36\, Ελλάδα;X
 -APPLE-RADIUS=72;X-TITLE=HolyWood Stage:37.945099;23.7395
END:VEVENT
END:VCALENDAR