BEGIN:VCALENDAR
VERSION:2.0
PRODID:Events Booking
BEGIN:VEVENT
UID:69e7ab3537dba
SUMMARY:Αντιπολεμική Συναυλία
DESCRIPTION:Η Αθήνα γίνεται σημείο συνάντησης 
 για μια μεγάλη αντιπολεμική συναυλία αλ
 ληλεγγύης\, που σημαίνει την εναντιώση μ
 ας!
 
LOCATION:Πανεπιστημίου 30\, Αθήνα 106 79
DTSTART:20260426T160000Z
DTEND:20260425T210000Z
DTSTAMP:20260421T101612Z
ORGANIZER:MAILTO:doraq@brainfoodmedia.gr
END:VEVENT
END:VCALENDAR