BEGIN:VCALENDAR
VERSION:2.0
PRODID:Events Booking
BEGIN:VEVENT
UID:69e76ff3dd621
SUMMARY:Άννα Βίσση
DESCRIPTION:H Άννα Βίσση ξανά στο Θέατρο Άλσος

  
LOCATION:Ευελπίδων 4\, Αθήνα 114 74
DTSTART:20210929T150000Z
DTEND:20210929T175900Z
DTSTAMP:20231116T105416Z
ORGANIZER:MAILTO:doraq@brainfoodmedia.gr
END:VEVENT
END:VCALENDAR