BEGIN:VCALENDAR
VERSION:2.0
PRODID:Events Booking
BEGIN:VEVENT
UID:69ebb33ab46a5
SUMMARY:Αλέξανδρος Κτιστάκης
DESCRIPTION:Ο Αλέξανδρος Κτιστάκης έρχεται τη
 ν Δευτέρα 29 Νοεμβρίου\, στην Κεντρική Σκη
 νή του Σταυρού του Νότου\, για μία μοναδι
 κή συναυλία και παρουσιάζει τα νέα του τ
 ραγούδια καθώς και παλιά αγαπημένα.
 
LOCATION:Θαρύπου 37\, Αθήνα 117 43\, Ελλάδα
DTSTART:20211129T170000Z
DTEND:20211129T195900Z
DTSTAMP:20231116T105416Z
ORGANIZER:MAILTO:doraq@brainfoodmedia.gr
GEO:37.962002;23.726101
X-APPLE-STRUCTURED-LOCATION;VALUE=URI;X-ADDRESS=Θαρύπου 37\, Αθή
 να 117 43\, Ελλάδα;X-APPLE-RADIUS=72;X-TITLE=Σταυρός Του
  Νότου / Κεντρική Σκηνή:37.962002;23.726101
END:VEVENT
END:VCALENDAR