BEGIN:VCALENDAR
VERSION:2.0
PRODID:Events Booking
BEGIN:VEVENT
UID:69e938f422cdd
SUMMARY:33 Lovers
DESCRIPTION:Oι 33 Lovers παρουσιάζουν για πρώτη φορ
 ά live\, με full band\, το ντεμπούτο album τους\, \"Ghos
 t Flower\".
LOCATION:Ωγύγου 16\, Αθήνα 105 54\, Ελλάδα
DTSTART:20231228T200000Z
DTEND:20231228T215500Z
DTSTAMP:20231227T131633Z
ORGANIZER:MAILTO:doraq@brainfoodmedia.gr
GEO:37.978298;23.722401
X-APPLE-STRUCTURED-LOCATION;VALUE=URI;X-ADDRESS=Ωγύγου 16\, Αθήν
 α 105 54\, Ελλάδα;X-APPLE-RADIUS=72;X-TITLE=DeathDisco:37.978298;23
 .722401
END:VEVENT
END:VCALENDAR