BEGIN:VCALENDAR
VERSION:2.0
PRODID:Events Booking
BEGIN:VEVENT
UID:69e5a2fab5c47
SUMMARY:Yngwie Malmsteen
DESCRIPTION:Ο&nbsp\;θρυλικός Malmsteen θα κάνει στάση 
 στην Ελλάδα για 2&nbsp\;εμφανίσεις που θα αφ
 ήσουν ιστορία.&nbsp\;
 
LOCATION:Κολοκοτρώνη 17\, Θεσσαλονίκη 546 41\, Ελλ
 άδα
DTSTART:20260717T183000Z
DTEND:20260716T210000Z
DTSTAMP:20260419T040415Z
ORGANIZER:MAILTO:doraq@brainfoodmedia.gr
GEO:40.613201;22.9564
X-APPLE-STRUCTURED-LOCATION;VALUE=URI;X-ADDRESS=Κολοκοτρώνη 17\,
  Θεσσαλονίκη 546 41\, Ελλάδα;X-APPLE-RADIUS=72;X-TITLE=Μ
 ονή Λαζαριστών :40.613201;22.9564
END:VEVENT
END:VCALENDAR