BEGIN:VCALENDAR
VERSION:2.0
PRODID:Events Booking
BEGIN:VEVENT
UID:69e853c0560ca
SUMMARY:The 69 Eyes
DESCRIPTION:Το iconic φινλανδικό goth σχήμα The 69 Eyes ε
 πιστρέφει στην Ελλάδα!
 
LOCATION:Γρηγορίου Λαμπράκη και 3ης Σεπτεμβρ
 ίου\, Θεσσαλονίκη 546 21\, Ελλάδα
DTSTART:20260508T180000Z
DTEND:20260507T210000Z
DTSTAMP:20260121T084208Z
ORGANIZER:MAILTO:doraq@brainfoodmedia.gr
GEO:40.6259;22.9589
X-APPLE-STRUCTURED-LOCATION;VALUE=URI;X-ADDRESS=Γρηγορίου Λαμπ
 ράκη και 3ης Σεπτεμβρίου\, Θεσσαλονίκη 546 
 21\, Ελλάδα;X-APPLE-RADIUS=72;X-TITLE=Πολυχώρος Πολιτ
 ισμού & Αθλητισμού WE:40.6259;22.9589
END:VEVENT
END:VCALENDAR