BEGIN:VCALENDAR
VERSION:2.0
PRODID:Events Booking
BEGIN:VEVENT
UID:69ebebabed90e
SUMMARY:Nightstalker
DESCRIPTION:Οι Nightstalker επιστρέφουν δισκογραφικ
 ά με το νέο τους άλμπουμ \"Return from the Point of No 
 Return\" και θα το παρουσιάσουν ζωντανά και 
 αποκλειστικά σε δύο μοναδικές συναυλίες
 !
LOCATION:26ης Οκτωβρίου 15\, Θεσσαλονίκη 576 27
DTSTART:20250509T180000Z
DTEND:20250509T205500Z
DTSTAMP:20250324T145835Z
ORGANIZER:MAILTO:doraq@brainfoodmedia.gr
GEO:40.640202;22.9223
X-APPLE-STRUCTURED-LOCATION;VALUE=URI;X-ADDRESS=26ης Οκτωβρίου 1
 5\, Θεσσαλονίκη 576 27;X-APPLE-RADIUS=72;X-TITLE=Principal Club
  Theater @ Mylos Area:40.640202;22.9223
END:VEVENT
END:VCALENDAR