BEGIN:VCALENDAR
VERSION:2.0
PRODID:Events Booking
BEGIN:VEVENT
UID:69ec278ac6c23
SUMMARY:Domenica
DESCRIPTION:Οι Domenica επιστρέφουν στη Θεσσαλονί
 κη για μια ξεχωριστή ζωντανή εμφάνιση τη
 ν Παρασκευή 8 Μαΐου στο Soul.
 
LOCATION:26ης Οκτωβρίου 104\, Θεσσαλονίκη 546 27
DTSTART:20260508T190000Z
DTEND:20260507T210000Z
DTSTAMP:20260424T111008Z
ORGANIZER:MAILTO:doraq@brainfoodmedia.gr
END:VEVENT
END:VCALENDAR