BEGIN:VCALENDAR
VERSION:2.0
PRODID:Events Booking
BEGIN:VEVENT
UID:69e7c5ed7cad5
SUMMARY:Δήμος Γκουνταρούλης\, Νεκτάριος Καρα
 ντζής\, Γιώτης Δαμιανίδης
DESCRIPTION:Ένα ζωντανό\, απρόβλεπτο μουσικό τ
 αξίδι\, όπου η ένταση και η ευαισθησία συ
 νυπάρχουν.
 
LOCATION:26ης Οκτωβρίου 104\, Θεσσαλονίκη 546 27
DTSTART:20260424T190000Z
DTEND:20260423T210000Z
DTSTAMP:20260421T035353Z
ORGANIZER:MAILTO:doraq@brainfoodmedia.gr
END:VEVENT
END:VCALENDAR