BEGIN:VCALENDAR
VERSION:2.0
PRODID:Events Booking
BEGIN:VEVENT
UID:69eb4627cdfaa
SUMMARY:Let's Be Late! Let's Be Kissed!
DESCRIPTION:Φέτος ανήμερα του Αγίου Βαλεντίνο
 υ\, μόλις η μέρα γίνει νύχτα\, το Βιομηχαν
 ικό Μουσείο Φωταερίου της Τεχνόπολης Δή
 μου Αθηναίων ανεβάζει παλμούς! 
LOCATION:Πειραιώς 100\, Αθήνα 118 54\, Ελλάδα
DTSTART:20200214T160000Z
DTEND:20200214T190000Z
DTSTAMP:20231116T105416Z
ORGANIZER:MAILTO:doraq@brainfoodmedia.gr
GEO:37.977798;23.7141
X-APPLE-STRUCTURED-LOCATION;VALUE=URI;X-ADDRESS=Πειραιώς 100\, Αθ
 ήνα 118 54\, Ελλάδα;X-APPLE-RADIUS=72;X-TITLE=Τεχνόπολη 
 Δήμου Αθηναίων:37.977798;23.7141
END:VEVENT
END:VCALENDAR