BEGIN:VCALENDAR
VERSION:2.0
PRODID:Events Booking
BEGIN:VEVENT
UID:69ed43a0864b4
SUMMARY:Λεωνίδας Μπαλάφας
DESCRIPTION:Ο Λεωνίδας Μπαλάφας έρχεται στο Στ
 αυρό του Nότου Club μαζί με την Αναστασία Φ
 εργαδιώτη και την πολυμελή και πολυμήχα
 νη μπάντα του για όλες τις Παρασκευές το
 υ Μαρτίου.
 
LOCATION:Θαρύπου 35\, Αθήνα 117 43\, Ελλάδα
DTSTART:20230324T183000Z
DTEND:20230324T195900Z
DTSTAMP:20231116T105416Z
ORGANIZER:MAILTO:doraq@brainfoodmedia.gr
GEO:37.961899;23.726
X-APPLE-STRUCTURED-LOCATION;VALUE=URI;X-ADDRESS=Θαρύπου 35\, Αθή
 να 117 43\, Ελλάδα;X-APPLE-RADIUS=72;X-TITLE=Σταυρός Του
  Νότου / Club:37.961899;23.726
END:VEVENT
END:VCALENDAR