BEGIN:VCALENDAR
VERSION:2.0
PRODID:Events Booking
BEGIN:VEVENT
UID:69ea7fdfc3192
SUMMARY:Lah Porella
DESCRIPTION:Η Lah Porella παρουσιάζει live το debut album τ
 ης 'Πράσινη Σκάλα' στο ILION plus\, την Πέμπτη 2
 3 Απριλίου.
 
LOCATION:28ης Οκτωβρίου και Κοδριγκτώνος\, Αθή
 να 104 34\, Ελλάδα
DTSTART:20260423T173000Z
DTEND:20260422T210000Z
DTSTAMP:20260423T101016Z
ORGANIZER:MAILTO:doraq@brainfoodmedia.gr
GEO:37.995602;23.732201
X-APPLE-STRUCTURED-LOCATION;VALUE=URI;X-ADDRESS=28ης Οκτωβρίου 
 και Κοδριγκτώνος\, Αθήνα 104 34\, Ελλάδα;X-APPLE
 -RADIUS=72;X-TITLE=Ίλιον Plus:37.995602;23.732201
END:VEVENT
END:VCALENDAR