BEGIN:VCALENDAR
VERSION:2.0
PRODID:Events Booking
BEGIN:VEVENT
UID:69e8534d48d8d
SUMMARY:Κώστας Χατζής
DESCRIPTION:Ο κορυφαίος τραγουδοποιός επιστρέ
 φει στο Half Note για μια σειρά εμφανίσεων με
  ανανεωμένο ρεπερτόριο και μας μεταφέρε
 ι στις παλιές εποχές των αθηναϊκών μπουά
 τ. 
LOCATION:Τριβωνιανού 17\, Αθήνα 116 36\, Ελλάδα
DTSTART:20200301T163000Z
DTEND:20200301T190000Z
DTSTAMP:20231116T105416Z
ORGANIZER:MAILTO:doraq@brainfoodmedia.gr
GEO:37.965;23.734699
X-APPLE-STRUCTURED-LOCATION;VALUE=URI;X-ADDRESS=Τριβωνιανού 17\,
  Αθήνα 116 36\, Ελλάδα;X-APPLE-RADIUS=72;X-TITLE=Half Note Jazz
  Club:37.965;23.734699
END:VEVENT
END:VCALENDAR