BEGIN:VCALENDAR
VERSION:2.0
PRODID:Events Booking
BEGIN:VEVENT
UID:69e97295090f0
SUMMARY:Κώστας Λειβαδάς & Ανδριάνα Μπάμπαλη 
DESCRIPTION:Ο Κώστας Λειβαδάς και η Ανδριάνα Μ
 πάμπαλη στη μουσική σκηνή Σφίγγα
 
LOCATION:Ακαδημίας και Ζωοδόχου Πηγής\, Αθήνα
  106 78\, Ελλάδα
DTSTART:20211127T183000Z
DTEND:20211127T195900Z
DTSTAMP:20231116T105416Z
ORGANIZER:MAILTO:doraq@brainfoodmedia.gr
GEO:37.983299;23.732901
X-APPLE-STRUCTURED-LOCATION;VALUE=URI;X-ADDRESS=Ακαδημίας και 
 Ζωοδόχου Πηγής\, Αθήνα 106 78\, Ελλάδα;X-APPLE-RAD
 IUS=72;X-TITLE=Μουσική Σκηνή Σφίγγα:37.983299;23.732901
END:VEVENT
END:VCALENDAR