BEGIN:VCALENDAR
VERSION:2.0
PRODID:Events Booking
BEGIN:VEVENT
UID:69e66c875f0d3
SUMMARY:Κατερίνα Μακαβού
DESCRIPTION:H Κατερίνα Μακαβού στο Tiki Bar Athens\, γι
 α το πρώτο live του χειμώνα. 
LOCATION:Μακρυγιάννη 15\, Αθήνα 117 42\, Ελλάδα
DTSTART:20191118T173000Z
DTEND:20191118T190000Z
DTSTAMP:20231116T105416Z
ORGANIZER:MAILTO:doraq@brainfoodmedia.gr
GEO:37.9687;23.729601
X-APPLE-STRUCTURED-LOCATION;VALUE=URI;X-ADDRESS=Μακρυγιάννη 15\,
  Αθήνα 117 42\, Ελλάδα;X-APPLE-RADIUS=72;X-TITLE=Tiki Athens:37
 .9687;23.729601
END:VEVENT
END:VCALENDAR