BEGIN:VCALENDAR
VERSION:2.0
PRODID:Events Booking
BEGIN:VEVENT
UID:69ec323cdc5ed
SUMMARY:José James
DESCRIPTION:Τρία χρόνια μετά την εμφάνισή του 
 στο Ηρώδειο — μια βραδιά που άφησε έντον
 ο αποτύπωμα και χαρακτηρίστηκε από πολλ
 ούς ως «η συναυλία της δεκαετίας»- ο διεθ
 νώς αναγνωρισμένος τραγουδιστής της σύγ
 χρονης τζαζ\, José James\, επιστρέφει στην Αθή
 να.
LOCATION:Λόφος Λυκαβηττού\, Αθήνα\, Ελλάδα
DTSTART:20260706T180000Z
DTEND:20260705T210000Z
DTSTAMP:20251209T141022Z
ORGANIZER:MAILTO:doraq@brainfoodmedia.gr
GEO:37.9828;23.746
X-APPLE-STRUCTURED-LOCATION;VALUE=URI;X-ADDRESS=Λόφος Λυκαβηττ
 ού\, Αθήνα\, Ελλάδα;X-APPLE-RADIUS=72;X-TITLE=Θέατρο Λ
 υκαβηττού:37.9828;23.746
END:VEVENT
END:VCALENDAR