BEGIN:VCALENDAR
VERSION:2.0
PRODID:Events Booking
BEGIN:VEVENT
UID:69e7a0028435a
SUMMARY:Jazz Cafe Afternoons Vol. 3 > Anamateur & Pros.
DESCRIPTION:To beton7cafe συνεχίζει τον κύκλο των JAZZ 
 CAFÉ AFTERNOONS\, απογεύματα Κυριακής με live jazz μ
 ουσική και ελεύθερη είσοδο.
DTSTART:20130113T160000Z
DTEND:20130113T190000Z
DTSTAMP:20231116T105416Z
ORGANIZER:MAILTO:doraq@brainfoodmedia.gr
END:VEVENT
END:VCALENDAR