BEGIN:VCALENDAR
VERSION:2.0
PRODID:Events Booking
BEGIN:VEVENT
UID:69e907c1c9623
SUMMARY:Η Ταράτσα Του Φοίβου: Χρήστος Νικολό
 πουλος\, Ελένη Τσαλιγοπούλου\, Φώτης Σιώτ
 ας\, Ιουλία Καραπατάκη
DESCRIPTION:Μια η πανδημία\, μια οι εορτασμοί γ
 ια το 1821\, κοντέψαμε να ξεχάσουμε μια συγ
 κυρία εξίσου\, αν όχι περισσότερο σημαντ
 ική: τα 200 χρόνια της «Ταράτσας του Φοίβο
 υ».
 
LOCATION:Ευελπίδων 4\, Αθήνα 114 74
DTSTART:20210624T150000Z
DTEND:20210624T175900Z
DTSTAMP:20231116T105416Z
ORGANIZER:MAILTO:doraq@brainfoodmedia.gr
END:VEVENT
END:VCALENDAR