BEGIN:VCALENDAR
VERSION:2.0
PRODID:Events Booking
BEGIN:VEVENT
UID:69eb91f31b48e
SUMMARY:Human Touch
DESCRIPTION:Παρουσίαση του νέο άλμπουμ “Colorblind
 ” στο Jazzèt Music Hall.
 
LOCATION:Καραϊσκάκη 99\, Χαϊδάρι 124 61\, Ελλάδα
DTSTART:20260425T190000Z
DTEND:20260424T210000Z
DTSTAMP:20260424T110256Z
ORGANIZER:MAILTO:doraq@brainfoodmedia.gr
GEO:38.009899;23.6649
X-APPLE-STRUCTURED-LOCATION;VALUE=URI;X-ADDRESS=Καραϊσκάκη 99\, 
 Χαϊδάρι 124 61\, Ελλάδα;X-APPLE-RADIUS=72;X-TITLE=Jazzet Musi
 c Hall Πολυχώρος Τεχνών:38.009899;23.6649
END:VEVENT
END:VCALENDAR