BEGIN:VCALENDAR
VERSION:2.0
PRODID:Events Booking
BEGIN:VEVENT
UID:69e8f9ec1e3c4
SUMMARY:Γιώργος Μαργαρίτης
DESCRIPTION:Ο Γιώργος Μαργαρίτης της παρέας\, τ
 ου χτες και του σήμερα\, παρουσιάζει μια 
 μοναδική παράσταση που ενώνει αρμονικά 
 το σύγχρονο με το κλασικό.
 
LOCATION:Ακαδημίας και Ζωοδόχου Πηγής\, Αθήνα
  106 78\, Ελλάδα
DTSTART:20211211T183000Z
DTEND:20211211T195900Z
DTSTAMP:20231116T105416Z
ORGANIZER:MAILTO:doraq@brainfoodmedia.gr
GEO:37.983299;23.732901
X-APPLE-STRUCTURED-LOCATION;VALUE=URI;X-ADDRESS=Ακαδημίας και 
 Ζωοδόχου Πηγής\, Αθήνα 106 78\, Ελλάδα;X-APPLE-RAD
 IUS=72;X-TITLE=Μουσική Σκηνή Σφίγγα:37.983299;23.732901
END:VEVENT
END:VCALENDAR