BEGIN:VCALENDAR
VERSION:2.0
PRODID:Events Booking
BEGIN:VEVENT
UID:69e8a8bd6e677
SUMMARY:Γιάννης Χαρούλης
DESCRIPTION: Ο Γιάννης Χαρούλης και η μουσική 
 του παρέα\, μας προσκαλούν να αισθανθούμ
 ε\, να μοιραστούμε και κυρίως να ξανασμίξ
 ουμε\, υπό τον ήχο αγαπημένων μας τραγουδ
 ιών.
 
LOCATION:Παναγή Τσαλδάρη 12\, Νίκαια 184 50\, Ελλά
 δα
DTSTART:20210630T150000Z
DTEND:20210630T175900Z
DTSTAMP:20231116T105416Z
ORGANIZER:MAILTO:doraq@brainfoodmedia.gr
GEO:37.9641;23.648199
X-APPLE-STRUCTURED-LOCATION;VALUE=URI;X-ADDRESS=Παναγή Τσαλδάρ
 η 12\, Νίκαια 184 50\, Ελλάδα;X-APPLE-RADIUS=72;X-TITLE=Κα
 τράκειο Θέατρο:37.9641;23.648199
END:VEVENT
END:VCALENDAR