BEGIN:VCALENDAR
VERSION:2.0
PRODID:Events Booking
BEGIN:VEVENT
UID:69e8a63be17ce
SUMMARY:11ο Φεστιβάλ Κιθάρας Καλαμάτας
DESCRIPTION:Η μεγάλη γιορτή της μουσικής στην 
 περιφέρεια έρχεται για ενδέκατη χρονιά 
 στην πόλη της Καλαμάτας.
 
LOCATION:Αριστομένους 33\, Καλαμάτα 241 00
DTSTART:20230205T160000Z
DTEND:20230205T195900Z
DTSTAMP:20231116T105416Z
ORGANIZER:MAILTO:doraq@brainfoodmedia.gr
END:VEVENT
END:VCALENDAR