BEGIN:VCALENDAR
VERSION:2.0
PRODID:Events Booking
BEGIN:VEVENT
UID:69eaa1c174b5f
SUMMARY:Release Athens 2026: Limp Bizkit\, Viagra Boys\, Ecca Vandal and mo
 re t.b.a.
DESCRIPTION:Το Release Athens 2026 υποδέχεται τους Limp Biz
 kit τη Δευτέρα 15 Ιουνίου\, στην Πλατεία Νερ
 ού.
 
LOCATION:Δέλτα Φαλήρου\, Aθήνα 11742\, Ελλάδ
DTSTART:20260615T150000Z
DTEND:20260614T210000Z
DTSTAMP:20251118T154109Z
ORGANIZER:MAILTO:doraq@brainfoodmedia.gr
END:VEVENT
END:VCALENDAR