BEGIN:VCALENDAR
VERSION:2.0
PRODID:Events Booking
BEGIN:VEVENT
UID:69e7eca78fc8a
SUMMARY:Release Athens 2026: Ημισκούμπρια
DESCRIPTION:To Release Athens 2026 υποδέχεται τα Ημισκού
 μπρια\, το Σάββατο 20 Ιουνίου\, στην Πλατεί
 α Νερού.
 
LOCATION:Δέλτα Φαλήρου\, Aθήνα 11742\, Ελλάδ
DTSTART:20260620T180000Z
DTEND:20260619T210000Z
DTSTAMP:20260303T133252Z
ORGANIZER:MAILTO:doraq@brainfoodmedia.gr
END:VEVENT
END:VCALENDAR