BEGIN:VCALENDAR
VERSION:2.0
PRODID:Events Booking
BEGIN:VEVENT
UID:69e5682606921
SUMMARY:Release Athens 2026: Ημισκούμπρια + more t.b.a.
DESCRIPTION:Μετά την εντυπωσιακή ανταπόκριση 
 του κοινού και το ταχύτατο sold out της εμφά
 νισης των HMIZ στις 20 Ιουνίου\, το Release Athens 20
 26 ανακοινώνει την προσθήκη δεύτερης ημέ
 ρας.
 
LOCATION:Δέλτα Φαλήρου\, Aθήνα 11742\, Ελλάδ
DTSTART:20260703T150000Z
DTEND:20260702T210000Z
DTSTAMP:20260418T144326Z
ORGANIZER:MAILTO:doraq@brainfoodmedia.gr
END:VEVENT
END:VCALENDAR