BEGIN:VCALENDAR
VERSION:2.0
PRODID:Events Booking
BEGIN:VEVENT
UID:69ea067db6a95
SUMMARY:Lullaby Αθενζ vol. 3: Κύριος Κ.\, Βασίλης Ράλ
 λης\, Προφίλ
DESCRIPTION:Μία υπέροχη μουσική βραδιά γεμάτη 
 ποίηση\, σκληρά riff\, ανεξέλεγκτα beat και με
 λωδίες.
 
LOCATION:Κωνσταντινουπόλεως 119\, Αθήνα 104 47
DTSTART:20260424T180000Z
DTEND:20260423T210000Z
DTSTAMP:20260423T043530Z
ORGANIZER:MAILTO:doraq@brainfoodmedia.gr
END:VEVENT
END:VCALENDAR