BEGIN:VCALENDAR
VERSION:2.0
PRODID:Events Booking
BEGIN:VEVENT
UID:69e587e1e6619
SUMMARY:Φάνης Αφανής\, Yonassis\, Βος-Φ
DESCRIPTION:Το Underground Hip Hop είναι ζωντανό.
 
LOCATION:28ης Οκτωβρίου και Κοδριγκτώνος\, Αθή
 να 104 34\, Ελλάδα
DTSTART:20221208T170000Z
DTEND:20221208T195900Z
DTSTAMP:20231116T105416Z
ORGANIZER:MAILTO:doraq@brainfoodmedia.gr
GEO:37.995602;23.732201
X-APPLE-STRUCTURED-LOCATION;VALUE=URI;X-ADDRESS=28ης Οκτωβρίου 
 και Κοδριγκτώνος\, Αθήνα 104 34\, Ελλάδα;X-APPLE
 -RADIUS=72;X-TITLE=Ίλιον Plus:37.995602;23.732201
END:VEVENT
END:VCALENDAR