BEGIN:VCALENDAR
VERSION:2.0
PRODID:Events Booking
BEGIN:VEVENT
UID:69eaf93d75560
SUMMARY:Συριανό Καρναβάλι 2011
DESCRIPTION:ΣΥΡΙΑΝΟ ΚΑΡΝΑΒΑΛΙ
 Πρόγραμμα 2011
 
 Σάββατο 5 Μαρτίου (Ερμούπολη):
 Συγκέντρω
 ση καρναβαλιστών στο χώρο του λιμανιού (
 Αποβάθρες Πλοίων)
 18:00&nbsp\; Παρέλαση στο ι
 στορικό κέντρο της πόλης διαμέσου των οδ
 ών Ακτή Π.
DTSTART:20110307T190000Z
DTEND:20110307T215900Z
DTSTAMP:20231116T105416Z
ORGANIZER:MAILTO:doraq@brainfoodmedia.gr
END:VEVENT
END:VCALENDAR