BEGIN:VCALENDAR
VERSION:2.0
PRODID:Events Booking
BEGIN:VEVENT
UID:69e9aa2b2de84
SUMMARY:Release Athens 2019: Iggy Pop\, James\, Shame + more t.b.a.
DESCRIPTION:Το Release Athens 2019 υποδέχεται μία από τ
 ις μεγαλύτερες μορφές στην ιστορία της ro
 ck'n'roll μουσικής! Ο μοναδικός Iggy Pop θα είναι
  μαζί μας\, το Σάββατο 8 Ιουνίου\, στην Πλα
 τεία Νερού\, για να αποδείξει πως παραμέν
 ει μία αστείρευτη πηγή ενέργειας πάνω στ
 η σκηνή\, με ένα live show που συμπεριλαμβάνε
 ι όλες τις μεγάλες στιγμές της τεράστιας
  καριέρας του.
LOCATION:Δέλτα Φαλήρου\, Aθήνα 11742\, Ελλάδ
DTSTART:20190608T150000Z
DTEND:20190608T150000Z
DTSTAMP:20231116T105416Z
ORGANIZER:MAILTO:doraq@brainfoodmedia.gr
END:VEVENT
END:VCALENDAR