BEGIN:VCALENDAR
VERSION:2.0
PRODID:Events Booking
BEGIN:VEVENT
UID:69ebe119bc558
SUMMARY:Ευανθία Ρεμπούτσικα
DESCRIPTION:Στο πνεύμα των ημερών\, με πνευστά 
 και κρουστά που θα παίζουν στην είσοδο μ
 ουσικοί ντυμένοι μολυβένιοι στρατιώτες\
 , με μια δόση παραμυθιού δηλαδή\, η Ευανθί
 α Ρεμπούτσικα θα συναντήσει το κοινό στ
 ο Θέατρο του Κολεγίου Αθηνών το Σάββατο 1
 0 Δεκεμβρίου.
 
LOCATION:Στεφάνου Δέλτα 15\, Φιλοθέη 154 52\, Ελλά
 δα
DTSTART:20221210T170000Z
DTEND:20221210T195900Z
DTSTAMP:20231116T105416Z
ORGANIZER:MAILTO:doraq@brainfoodmedia.gr
GEO:38.017799;23.781
X-APPLE-STRUCTURED-LOCATION;VALUE=URI;X-ADDRESS=Στεφάνου Δέλτα
  15\, Φιλοθέη 154 52\, Ελλάδα;X-APPLE-RADIUS=72;X-TITLE=Θέ
 ατρο Κολλεγίου Αθηνών:38.017799;23.781
END:VEVENT
END:VCALENDAR