BEGIN:VCALENDAR
VERSION:2.0
PRODID:Events Booking
BEGIN:VEVENT
UID:69e8b701508f6
SUMMARY:EROTICArt Festival 2023
DESCRIPTION:Ήρθε ξανά η ώρα για το απόλυτο Φεστ
 ιβάλ ερωτισμού στην Ελλάδα!
 
LOCATION:Πειραιώς & Ερμού\, Αθήνα 105 53
DTSTART:20230610T140000Z
DTEND:20230610T175900Z
DTSTAMP:20231116T105416Z
ORGANIZER:MAILTO:doraq@brainfoodmedia.gr
END:VEVENT
END:VCALENDAR