BEGIN:VCALENDAR
VERSION:2.0
PRODID:Events Booking
BEGIN:VEVENT
UID:69e8f339e988d
SUMMARY:Ένα μουσικό αφιέρωμα στον Nicola Piovani
DESCRIPTION:«Όμορφη ζωή / La vita e bella». Ο ευαίσθητ
 ος και αισιόδοξος κόσμος του Nicola Piovani ξεδ
 ιπλώνεται μέσα από συνθέσεις και τραγού
 δια του βραβευμένου συνθέτη που έντυσε 
 με λόγο η Λίνα Νικολακοπούλου και θα ακο
 υστούν την Πέμπτη 24 Οκτωβρίου\, στις 8:30 τ
 ο βράδυ\, στην Αίθουσα Χρήστος Λαμπράκης 
 του Μεγάρου Μουσικής Aθηνών.
 
LOCATION:Βασ. Σοφίας & Κόκκαλη\, Αθήνα 115 21\, Ελλ
 άδα
DTSTART:20191024T143000Z
DTEND:20191024T175900Z
DTSTAMP:20231116T105416Z
ORGANIZER:MAILTO:doraq@brainfoodmedia.gr
GEO:37.981499;23.7544
X-APPLE-STRUCTURED-LOCATION;VALUE=URI;X-ADDRESS=Βασ. Σοφίας & Κό
 κκαλη\, Αθήνα 115 21\, Ελλάδα;X-APPLE-RADIUS=72;X-TITLE=Μ
 έγαρο Μουσικής Αθηνών:37.981499;23.7544
END:VEVENT
END:VCALENDAR