BEGIN:VCALENDAR
VERSION:2.0
PRODID:Events Booking
BEGIN:VEVENT
UID:69ed622e03874
SUMMARY:En Lefko Party
DESCRIPTION:Την Παρασκευή 22 Απριλίου ο παλιός 
 Σιδηροδρομικός Σταθμός Πελοποννήσου αν
 οίγει ξανά τις πόρτες του για το party του En
  Lefko 87.
LOCATION:Σιδηροδρόμων\, Αθήνα 104 44\, Ελλάδα
DTSTART:20160422T190000Z
DTEND:20160422T190000Z
DTSTAMP:20231116T105416Z
ORGANIZER:MAILTO:doraq@brainfoodmedia.gr
GEO:37.989899;23.719601
X-APPLE-STRUCTURED-LOCATION;VALUE=URI;X-ADDRESS=Σιδηροδρόμων\, 
 Αθήνα 104 44\, Ελλάδα;X-APPLE-RADIUS=72;X-TITLE=Παλιός Σ
 ιδηροδρομικός Σταθμός Πελοποννήσου:37.9898
 99;23.719601
END:VEVENT
END:VCALENDAR