BEGIN:VCALENDAR
VERSION:2.0
PRODID:Events Booking
BEGIN:VEVENT
UID:69ed622e2ad8d
SUMMARY:Emma Shapplin
DESCRIPTION:Ζήστε τη μαγεία μιας αληθινά υπέρο
 χης φωνής.
 
LOCATION:Θεσσαλονίκη\, Ελλάδα
DTSTART:20220904T150000Z
DTEND:20220904T175900Z
DTSTAMP:20231116T105416Z
ORGANIZER:MAILTO:doraq@brainfoodmedia.gr
GEO:40.640099;22.944401
X-APPLE-STRUCTURED-LOCATION;VALUE=URI;X-ADDRESS=Θεσσαλονίκη\, Ε
 λλάδα;X-APPLE-RADIUS=72;X-TITLE=Θέατρο Γης :40.640099;22.944
 401
END:VEVENT
END:VCALENDAR