BEGIN:VCALENDAR
VERSION:2.0
PRODID:Events Booking
BEGIN:VEVENT
UID:69ed53c4651b2
SUMMARY:Ελεονόρα Μανόνα
DESCRIPTION:Μία ξεχωριστή βραδιά\, την Πέμπτη 29
  Σεπτεμβρίου\, στον πανέμορφο κήπο του Νο
 μισματικού Μουσείου\, ετοιμάζει η Ελεονό
 ρα Μανόνα παρουσιάζοντας την μουσική πα
 ράσταση «Nora's Cinematic» για να υποδεχτεί τη ν
 έα μουσική σεζόν και το φθινόπωρο με τον 
 πιο κινηματογραφικό τρόπο!
 
LOCATION:Πανεπιστημίου 12\, Αθήνα 105 64\, Ελλάδα
DTSTART:20220929T150000Z
DTEND:20220929T175900Z
DTSTAMP:20231116T105416Z
ORGANIZER:MAILTO:doraq@brainfoodmedia.gr
GEO:37.977901;23.7351
X-APPLE-STRUCTURED-LOCATION;VALUE=URI;X-ADDRESS=Πανεπιστημίου 
 12\, Αθήνα 105 64\, Ελλάδα;X-APPLE-RADIUS=72;X-TITLE=Νομισ
 ματικό Μουσείο Αθηνών:37.977901;23.7351
END:VEVENT
END:VCALENDAR