BEGIN:VCALENDAR
VERSION:2.0
PRODID:Events Booking
BEGIN:VEVENT
UID:69eb3e042b2e3
SUMMARY:Ελένη & Σουζάνα Βουγιουκλή 
DESCRIPTION:Η Ελένη και η Σουζάνα Βουγιουκλή\, 
 «οι ιέρειες της πολυπολιτισμικότητας» ό
 πως έχουν χαρακτηρισθεί\, μετά την πολυε
 τή ενασχόλησή τους με τα παραδοσιακά τρα
 γούδια από όλο τον κόσμο\, έρχονται στη σ
 κηνή του SIX D.O.G.S για έξι μυσταγωγικές μου
 σικές παραστάσεις με τίτλο “Roots &amp\; Rituals
 ”.
 
LOCATION:Αβραμιώτου 6\, Αθήνα 105 51\, Ελλάδα
DTSTART:20230327T153000Z
DTEND:20230327T175900Z
DTSTAMP:20231116T105416Z
ORGANIZER:MAILTO:doraq@brainfoodmedia.gr
GEO:37.977501;23.726801
X-APPLE-STRUCTURED-LOCATION;VALUE=URI;X-ADDRESS=Αβραμιώτου 6\, Α
 θήνα 105 51\, Ελλάδα;X-APPLE-RADIUS=72;X-TITLE=Six D.O.G.S.:37.9
 77501;23.726801
END:VEVENT
END:VCALENDAR