BEGIN:VCALENDAR
VERSION:2.0
PRODID:Events Booking
BEGIN:VEVENT
UID:69eae960a655b
SUMMARY:Ελευθερία Αρβανιτάκη\, Ελεωνόρα Ζουγ
 ανέλη
DESCRIPTION:Ήταν και είναι η συνεργασία της χρ
 ονιάς. Μετά από τα επαναλαμβανόμενα soldout 
 στην μουσική σκηνή VOX στην Αθήνα\, το πολύ
  επιτυχημένο ΜΑΖΙ της Ελευθερίας Αρβανι
 τάκη και της Ελεωνόρας Ζουγανέλη συνεχί
 ζει με μια μεγάλη περιοδεία σε Ελλάδα κα
 ι Κύπρο.
 
LOCATION:Θεσσαλονίκη\, Ελλάδα
DTSTART:20230619T160000Z
DTEND:20230619T175900Z
DTSTAMP:20231116T105416Z
ORGANIZER:MAILTO:doraq@brainfoodmedia.gr
GEO:40.640099;22.944401
X-APPLE-STRUCTURED-LOCATION;VALUE=URI;X-ADDRESS=Θεσσαλονίκη\, Ε
 λλάδα;X-APPLE-RADIUS=72;X-TITLE=Θέατρο Γης :40.640099;22.944
 401
END:VEVENT
END:VCALENDAR