BEGIN:VCALENDAR
VERSION:2.0
PRODID:Events Booking
BEGIN:VEVENT
UID:69e8a562ed98f
SUMMARY:Electronica Presents:: We Love The Prodigy
DESCRIPTION:Το Σάββατο 7 Μαρτίου αφιέρωμα στου
 ς αγαπημένους μας Prodigy αλλά και στην electron
 ica σκηνή από τον Xristo Milio και τον Dj Kimon!
 Free e
 ntrance
 FB event:  &lt\;
LOCATION:Μητροπόλεως 72\, Αθήνα 105 63\, Ελλάδα
DTSTART:20150307T210000Z
DTEND:20150307T215900Z
DTSTAMP:20231116T105416Z
ORGANIZER:MAILTO:doraq@brainfoodmedia.gr
GEO:37.976002;23.728001
X-APPLE-STRUCTURED-LOCATION;VALUE=URI;X-ADDRESS=Μητροπόλεως 72\,
  Αθήνα 105 63\, Ελλάδα;X-APPLE-RADIUS=72;X-TITLE=Φουάρ:37.
 976002;23.728001
END:VEVENT
END:VCALENDAR