BEGIN:VCALENDAR
VERSION:2.0
PRODID:Events Booking
BEGIN:VEVENT
UID:69ec3adb6db72
SUMMARY:Ejekt Festival 2026: The Cure + more t.b.a.
DESCRIPTION:Το EJEKT Festival 2026 υποδέχεται τους The Cure
 !
LOCATION:Λεωφόρος Ολυμπιονίκου Σπύρου Λούη 1\
 , Αθήνα 151 23
DTSTART:20260715T160000Z
DTEND:20260714T210000Z
DTSTAMP:20251030T123422Z
ORGANIZER:MAILTO:doraq@brainfoodmedia.gr
GEO:38.0345;23.785
X-APPLE-STRUCTURED-LOCATION;VALUE=URI;X-ADDRESS=Λεωφόρος Ολυμπ
 ιονίκου Σπύρου Λούη 1\, Αθήνα 151 23;X-APPLE-RADIUS=
 72;X-TITLE=Telekom Center Athens (Ο.Α.Κ.Α.):38.0345;23.785
END:VEVENT
END:VCALENDAR