BEGIN:VCALENDAR
VERSION:2.0
PRODID:Events Booking
BEGIN:VEVENT
UID:69ec39e3cdcdc
SUMMARY:Ejekt Festival 2026: Florence & The Machine + more t.b.a.
DESCRIPTION:Οι Florence &amp\; Τhe Machine θα είναι οι headline
 rs στην Day1 του EJEKT Festival 2026!
LOCATION:Λεωφόρος Ολυμπιονίκου Σπύρου Λούη 1\
 , Αθήνα 151 23
DTSTART:20260714T160000Z
DTEND:20260713T210000Z
DTSTAMP:20251209T080249Z
ORGANIZER:MAILTO:doraq@brainfoodmedia.gr
GEO:38.0345;23.785
X-APPLE-STRUCTURED-LOCATION;VALUE=URI;X-ADDRESS=Λεωφόρος Ολυμπ
 ιονίκου Σπύρου Λούη 1\, Αθήνα 151 23;X-APPLE-RADIUS=
 72;X-TITLE=Telekom Center Athens (Ο.Α.Κ.Α.):38.0345;23.785
END:VEVENT
END:VCALENDAR