BEGIN:VCALENDAR
VERSION:2.0
PRODID:Events Booking
BEGIN:VEVENT
UID:69e938e2b543f
SUMMARY:Εδώ Λιλιπούπολη
DESCRIPTION: Εδώ Λιλιπούπολη: Η θρυλική ραδιοφ
 ωνική σειρά που συνδέθηκε με την εποχή τ
 ου Μάνου Χατζιδάκι στο Τρίτο Προγράμμα τ
 ης ΕΡΤ (1976-1980) και μεγάλωσε ως σήμερα γενι
 ές και γενιές\, ξαναζωντανεύει στο Ηρώδε
 ιο 
 
LOCATION:Διονυσίου Αρεοπαγίτου\, Αθήνα 105 58\, Ε
 λλάδα
DTSTART:20210710T150000Z
DTEND:20210710T175900Z
DTSTAMP:20231116T105416Z
ORGANIZER:MAILTO:doraq@brainfoodmedia.gr
GEO:37.969601;23.7269
X-APPLE-STRUCTURED-LOCATION;VALUE=URI;X-ADDRESS=Διονυσίου Αρεο
 παγίτου\, Αθήνα 105 58\, Ελλάδα;X-APPLE-RADIUS=72;X-TITL
 E=Ωδείο Ηρώδου Αττικού:37.969601;23.7269
END:VEVENT
END:VCALENDAR