BEGIN:VCALENDAR
VERSION:2.0
PRODID:Events Booking
BEGIN:VEVENT
UID:69ebc61132e63
SUMMARY:Edith Piaf \"The Show\" feat. Jil Aigrot
DESCRIPTION: 
 Δύο βραδιές αφιερωμένες στα ερω
 τικά τραγούδια της πιο σημαντικής φωνής 
 του γαλλικού τραγουδιού\, της Edith Piaf\, που 
 θα μας εντάξουν με τον πιο ξεχωριστό τρό
 πο στο μαγικό πνεύμα των Χριστουγέννων.

  
LOCATION:Βουτάδων 32\, Αθήνα 118 54\, Ελλάδα
DTSTART:20191222T153000Z
DTEND:20191222T190000Z
DTSTAMP:20231116T105416Z
ORGANIZER:MAILTO:doraq@brainfoodmedia.gr
GEO:37.978802;23.7124
X-APPLE-STRUCTURED-LOCATION;VALUE=URI;X-ADDRESS=Βουτάδων 32\, Αθ
 ήνα 118 54\, Ελλάδα;X-APPLE-RADIUS=72;X-TITLE=Gazarte - Main Stag
 e:37.978802;23.7124
END:VEVENT
END:VCALENDAR