BEGIN:VCALENDAR
VERSION:2.0
PRODID:Events Booking
BEGIN:VEVENT
UID:69e7cfedd50ed
SUMMARY:Don't Lose Your Soul goes... Indie Cabaret
DESCRIPTION:Σε μια πόλη γεμάτη αντιθέσεις\, με 
 ελκυστικούς αλλά και έντονους ρυθμούς\, 
 το motto της ομάδας Dob-le Sol παραμένει EΝΑ: «Don
 ’t Lose Your Soul»!
 Οι Απόκριες ήρθαν και η Nueva 
 Trova είναι έτοιμη να τις υποδεχθεί με ένα 
 αλλιώτικο «Don’t Lose your Soul» Party\, γεμάτo spooky 
 διάθεση &amp\; αισθησιασμό τον οποίο αποπν
 έει ένα Cabaret live Act!
 Μετά τις απολαυστικές
  Dark &amp\; Indie Cabaret χορογραφίες\, της σχολής 
 “All that Dance”\, οι Djs της ομάδας Dob-le Sol θα ενε
 ργοποιήσουν την «μουσική» μηχανή του χρ
 όνου και θα μας ταξιδέψουν στις πιο χορε
 υτικές ιστορίες\, γεμάτες με Swing\, Freestyle Lati
 n\, Gypsy Punk\, Dub\, Boogaloo\, Ska και 60's GoGo ακούσματα.
LOCATION:Βλαχάβα 9\, Αθήνα 105 51\, Ελλάδα
DTSTART:20120217T210000Z
DTEND:20120217T215900Z
DTSTAMP:20231116T105416Z
ORGANIZER:MAILTO:doraq@brainfoodmedia.gr
GEO:37.979;23.7271
X-APPLE-STRUCTURED-LOCATION;VALUE=URI;X-ADDRESS=Βλαχάβα 9\, Αθήν
 α 105 51\, Ελλάδα;X-APPLE-RADIUS=72;X-TITLE=Nueva Trova:37.979;23.7
 271
END:VEVENT
END:VCALENDAR