BEGIN:VCALENDAR
VERSION:2.0
PRODID:Events Booking
BEGIN:VEVENT
UID:69e85267676bd
SUMMARY:Downtown Top Ranking
DESCRIPTION:DOWNTOWN TOP RANKING    MUSIC SELECTOR: RANKIN JOHNNY RADICA
 L GEE   ON THE MIC
 ΕΛΕΥΘΕΡΗ ΕΙΣΟΔΟΣ
 O Music Selector 
 και παραγωγός της THC RECORDS \, RANKIN JOHNNY  παρου
 σιάζει ένα αυθεντικό REGGAE μουσικό πρόγρα
 μμα   την ΤΡΙΤΗ   7/6/11\, μετά τις 10 το βραδ
 ύ \,  στο ανανεωμένο  NUEVA TROVA  Live Bar\, λίγο π
 ριν το Μοναστηράκι.
LOCATION:Βλαχάβα 9\, Αθήνα 105 51\, Ελλάδα
DTSTART:20110607T190000Z
DTEND:20110607T205900Z
DTSTAMP:20231116T105416Z
ORGANIZER:MAILTO:doraq@brainfoodmedia.gr
GEO:37.979;23.7271
X-APPLE-STRUCTURED-LOCATION;VALUE=URI;X-ADDRESS=Βλαχάβα 9\, Αθήν
 α 105 51\, Ελλάδα;X-APPLE-RADIUS=72;X-TITLE=Nueva Trova:37.979;23.7
 271
END:VEVENT
END:VCALENDAR