BEGIN:VCALENDAR
VERSION:2.0
PRODID:Events Booking
BEGIN:VEVENT
UID:69ecb1e0e6a83
SUMMARY:Dj Ladydust
DESCRIPTION:Η Ladydust κατευθύνεται βόρεια αυτή τη
  φορά και αναλαμβάνει το Azor! Την Παρασκευ
 ή 16 Φεβρουαρίου 2018 οι μουσικές του πλανή
 τη της στα εκεί decks.
LOCATION:Ανοίξεως Σταματάς 3\, Άνοιξη 145 69\, Ελλ
 άδα
DTSTART:20180216T200000Z
DTEND:20180216T200000Z
DTSTAMP:20231116T105416Z
ORGANIZER:MAILTO:doraq@brainfoodmedia.gr
GEO:38.131302;23.861799
X-APPLE-STRUCTURED-LOCATION;VALUE=URI;X-ADDRESS=Ανοίξεως Σταμα
 τάς 3\, Άνοιξη 145 69\, Ελλάδα;X-APPLE-RADIUS=72;X-TITLE=Az
 or:38.131302;23.861799
END:VEVENT
END:VCALENDAR